BEGIN:VCALENDAR
VERSION:2.0
PRODID:-//Cedarcreek Community Church - ECPv6.15.20//NONSGML v1.0//EN
CALSCALE:GREGORIAN
METHOD:PUBLISH
X-ORIGINAL-URL:https://ccreek.org
X-WR-CALDESC:Events for Cedarcreek Community Church
REFRESH-INTERVAL;VALUE=DURATION:PT1H
X-Robots-Tag:noindex
X-PUBLISHED-TTL:PT1H
BEGIN:VTIMEZONE
TZID:America/Chicago
BEGIN:DAYLIGHT
TZOFFSETFROM:-0600
TZOFFSETTO:-0500
TZNAME:CDT
DTSTART:20220313T080000
END:DAYLIGHT
BEGIN:STANDARD
TZOFFSETFROM:-0500
TZOFFSETTO:-0600
TZNAME:CST
DTSTART:20221106T070000
END:STANDARD
BEGIN:DAYLIGHT
TZOFFSETFROM:-0600
TZOFFSETTO:-0500
TZNAME:CDT
DTSTART:20230312T080000
END:DAYLIGHT
BEGIN:STANDARD
TZOFFSETFROM:-0500
TZOFFSETTO:-0600
TZNAME:CST
DTSTART:20231105T070000
END:STANDARD
BEGIN:DAYLIGHT
TZOFFSETFROM:-0600
TZOFFSETTO:-0500
TZNAME:CDT
DTSTART:20240310T080000
END:DAYLIGHT
BEGIN:STANDARD
TZOFFSETFROM:-0500
TZOFFSETTO:-0600
TZNAME:CST
DTSTART:20241103T070000
END:STANDARD
END:VTIMEZONE
BEGIN:VEVENT
DTSTART;TZID=America/Chicago:20230903T111500
DTEND;TZID=America/Chicago:20230903T123000
DTSTAMP:20260422T051458
CREATED:20230815T191201Z
LAST-MODIFIED:20230815T191201Z
UID:10103-1693739700-1693744200@ccreek.org
SUMMARY:Sundae Sunday
DESCRIPTION:Join us after service for some delicious Culver’s custard!
URL:https://ccreek.org/event/sundae-sunday-13/
LOCATION:Cedarcreek\, 3520 Eastwind Drive\, Eau Claire\, WI\, 54701\, United States
ATTACH;FMTTYPE=image/jpeg:https://ccreek.org/content/2023/08/Sundae-Sunday-Fall23-1.jpg
END:VEVENT
BEGIN:VEVENT
DTSTART;TZID=America/Chicago:20230916T090000
DTEND;TZID=America/Chicago:20230916T120000
DTSTAMP:20260422T051458
CREATED:20230816T155615Z
LAST-MODIFIED:20230816T155615Z
UID:10105-1694854800-1694865600@ccreek.org
SUMMARY:Walk For Life
DESCRIPTION:Saturday\, September 16\nOwen Park (Eau Claire)\nRegistration: 9-10am\nWalk Begins: 10am \nRegistration and more information HERE
URL:https://ccreek.org/event/walk-for-life/
ATTACH;FMTTYPE=image/jpeg:https://ccreek.org/content/2023/08/Walk-for-Life.jpg
END:VEVENT
BEGIN:VEVENT
DTSTART;TZID=America/Chicago:20230924T090000
DTEND;TZID=America/Chicago:20230924T093000
DTSTAMP:20260422T051458
CREATED:20230924T171412Z
LAST-MODIFIED:20230924T171412Z
UID:10163-1695546000-1695547800@ccreek.org
SUMMARY:Core Value Study
DESCRIPTION:
URL:https://ccreek.org/event/core-value-study/
LOCATION:Cedarcreek\, 3520 Eastwind Drive\, Eau Claire\, WI\, 54701\, United States
ATTACH;FMTTYPE=image/jpeg:https://ccreek.org/content/2023/09/SepOct-Core-Value-Study-POSTER-Presentation-169.jpg
END:VEVENT
END:VCALENDAR