BEGIN:VCALENDAR
VERSION:2.0
PRODID:-//Cedarcreek Community Church - ECPv6.15.20//NONSGML v1.0//EN
CALSCALE:GREGORIAN
METHOD:PUBLISH
X-WR-CALNAME:Cedarcreek Community Church
X-ORIGINAL-URL:https://ccreek.org
X-WR-CALDESC:Events for Cedarcreek Community Church
REFRESH-INTERVAL;VALUE=DURATION:PT1H
X-Robots-Tag:noindex
X-PUBLISHED-TTL:PT1H
BEGIN:VTIMEZONE
TZID:America/Chicago
BEGIN:DAYLIGHT
TZOFFSETFROM:-0600
TZOFFSETTO:-0500
TZNAME:CDT
DTSTART:20160313T080000
END:DAYLIGHT
BEGIN:STANDARD
TZOFFSETFROM:-0500
TZOFFSETTO:-0600
TZNAME:CST
DTSTART:20161106T070000
END:STANDARD
BEGIN:DAYLIGHT
TZOFFSETFROM:-0600
TZOFFSETTO:-0500
TZNAME:CDT
DTSTART:20170312T080000
END:DAYLIGHT
BEGIN:STANDARD
TZOFFSETFROM:-0500
TZOFFSETTO:-0600
TZNAME:CST
DTSTART:20171105T070000
END:STANDARD
BEGIN:DAYLIGHT
TZOFFSETFROM:-0600
TZOFFSETTO:-0500
TZNAME:CDT
DTSTART:20180311T080000
END:DAYLIGHT
BEGIN:STANDARD
TZOFFSETFROM:-0500
TZOFFSETTO:-0600
TZNAME:CST
DTSTART:20181104T070000
END:STANDARD
END:VTIMEZONE
BEGIN:VEVENT
DTSTART;TZID=America/Chicago:20171107T183000
DTEND;TZID=America/Chicago:20171107T200000
DTSTAMP:20260421T224843
CREATED:20170816T165720Z
LAST-MODIFIED:20170816T165720Z
UID:5381-1510079400-1510084800@ccreek.org
SUMMARY:Financial Peace University
DESCRIPTION:
URL:https://ccreek.org/event/financial-peace-university-8/
ATTACH;FMTTYPE=image/png:https://ccreek.org/content/2017/08/Financial_Peace_Logo.png
END:VEVENT
BEGIN:VEVENT
DTSTART;TZID=America/Chicago:20171105T180000
DTEND;TZID=America/Chicago:20171105T210000
DTSTAMP:20260421T224843
CREATED:20171018T180106Z
LAST-MODIFIED:20171018T180106Z
UID:5572-1509904800-1509915600@ccreek.org
SUMMARY:Nerf Night
DESCRIPTION:This is a fun way to interact for ages 14 to adult.  We transform the sanctuary into a Nerf Arena\, break into teams and begin to battle!  All equipment is supplied (you can bring your own Nerf blasters). Please contact Daniel Gruenig for all details.
URL:https://ccreek.org/event/nerf-night-6/
ATTACH;FMTTYPE=image/png:https://ccreek.org/content/2017/08/Nerf.png
END:VEVENT
BEGIN:VEVENT
DTSTART;TZID=America/Chicago:20171105T130000
DTEND;TZID=America/Chicago:20171105T143000
DTSTAMP:20260421T224843
CREATED:20171018T180453Z
LAST-MODIFIED:20171018T180453Z
UID:5578-1509886800-1509892200@ccreek.org
SUMMARY:Nerf Battle for ALL Ages
DESCRIPTION:All Cedarcreekers of all ages are invited to a foam flinging afternoon of fun.  Feel free to run and grab lunch or stick around to help us setup.  You can bring your own blasters\, but we’ll provide extras and plenty of darts too. Please contact Daniel Gruenig for all details.
URL:https://ccreek.org/event/nerf-battle-ages/
ATTACH;FMTTYPE=image/png:https://ccreek.org/content/2017/08/Nerf.png
END:VEVENT
BEGIN:VEVENT
DTSTART;VALUE=DATE:20171105
DTEND;VALUE=DATE:20171106
DTSTAMP:20260421T224843
CREATED:20171005T155150Z
LAST-MODIFIED:20171019T181309Z
UID:5520-1509840000-1509926399@ccreek.org
SUMMARY:Daylight Savings
DESCRIPTION:Don’t forget to have you clocks “fall” back an hour or you’ll be an hour early to church this Sunday!
URL:https://ccreek.org/event/daylight-savings/
END:VEVENT
BEGIN:VEVENT
DTSTART;TZID=America/Chicago:20171102T180000
DTEND;TZID=America/Chicago:20171102T190000
DTSTAMP:20260421T224843
CREATED:20170816T171922Z
LAST-MODIFIED:20170816T171922Z
UID:5404-1509645600-1509649200@ccreek.org
SUMMARY:Fitness Night
DESCRIPTION:Come join us as we exercise together.  All fitness level welcome!  Childcare provided.  Donations accepted. \nPlease contact: \n\nLindsey Polden 456-4844\n\nlindsey.moldenhauer@gmail.com\, \n\nJerad Polden 828-6173\n\njerad@beavercreekreserve.org \n\nSue Gerber 828-7825\n\nsmgerb@yahoo.com \n 
URL:https://ccreek.org/event/fitness-night-8/
ATTACH;FMTTYPE=image/png:https://ccreek.org/content/2017/08/Wellness-Ministry.png
END:VEVENT
BEGIN:VEVENT
DTSTART;TZID=America/Chicago:20171101T183000
DTEND;TZID=America/Chicago:20171101T200000
DTSTAMP:20260421T224843
CREATED:20170816T163840Z
LAST-MODIFIED:20170816T163840Z
UID:5352-1509561000-1509566400@ccreek.org
SUMMARY:AWANA
DESCRIPTION:For more information see our connect page.
URL:https://ccreek.org/event/awana-32/
ATTACH;FMTTYPE=image/png:https://ccreek.org/content/2016/10/Awana-TimeDate-Scroller.png
END:VEVENT
BEGIN:VEVENT
DTSTART;TZID=America/Chicago:20171031T183000
DTEND;TZID=America/Chicago:20171031T200000
DTSTAMP:20260421T224843
CREATED:20170816T165653Z
LAST-MODIFIED:20170816T165653Z
UID:5379-1509474600-1509480000@ccreek.org
SUMMARY:Financial Peace University
DESCRIPTION:
URL:https://ccreek.org/event/financial-peace-university-7/
ATTACH;FMTTYPE=image/png:https://ccreek.org/content/2017/08/Financial_Peace_Logo.png
END:VEVENT
BEGIN:VEVENT
DTSTART;TZID=America/Chicago:20171029T180000
DTEND;TZID=America/Chicago:20171029T200000
DTSTAMP:20260421T224843
CREATED:20171005T154937Z
LAST-MODIFIED:20171005T154937Z
UID:5518-1509300000-1509307200@ccreek.org
SUMMARY:Luther Movie
DESCRIPTION:October 29 is Reformation Sunday – the start of celebrating the Protestant Reformation.  This year is its 500th anniversary.  Martin Luther turned the church and the world upside down when he wrote the 95 Theses\, challenging the corruption in the Catholic church and calling for repentance. \nFor all details\, please contact Pastor Jason Kanz. \n 
URL:https://ccreek.org/event/luther-movie/
LOCATION:Cedarcreek\, 3520 Eastwind Drive\, Eau Claire\, WI\, 54701\, United States
END:VEVENT
BEGIN:VEVENT
DTSTART;TZID=America/Chicago:20171026T180000
DTEND;TZID=America/Chicago:20171026T190000
DTSTAMP:20260421T224844
CREATED:20170816T171849Z
LAST-MODIFIED:20170816T171849Z
UID:5402-1509040800-1509044400@ccreek.org
SUMMARY:Fitness Night
DESCRIPTION:Come join us as we exercise together.  All fitness level welcome!  Childcare provided.  Donations accepted. \nPlease contact: \n\nLindsey Polden 456-4844\n\nlindsey.moldenhauer@gmail.com\, \n\nJerad Polden 828-6173\n\njerad@beavercreekreserve.org \n\nSue Gerber 828-7825\n\nsmgerb@yahoo.com \n 
URL:https://ccreek.org/event/fitness-night-7/
ATTACH;FMTTYPE=image/png:https://ccreek.org/content/2017/08/Wellness-Ministry.png
END:VEVENT
BEGIN:VEVENT
DTSTART;TZID=America/Chicago:20171025T183000
DTEND;TZID=America/Chicago:20171025T200000
DTSTAMP:20260421T224844
CREATED:20170816T163759Z
LAST-MODIFIED:20170816T163759Z
UID:5349-1508956200-1508961600@ccreek.org
SUMMARY:AWANA
DESCRIPTION:For more information see our connect page.
URL:https://ccreek.org/event/awana-31/
ATTACH;FMTTYPE=image/png:https://ccreek.org/content/2016/10/Awana-TimeDate-Scroller.png
END:VEVENT
BEGIN:VEVENT
DTSTART;TZID=America/Chicago:20171024T183000
DTEND;TZID=America/Chicago:20171024T200000
DTSTAMP:20260421T224844
CREATED:20170816T165630Z
LAST-MODIFIED:20170816T165630Z
UID:5377-1508869800-1508875200@ccreek.org
SUMMARY:Financial Peace University
DESCRIPTION:
URL:https://ccreek.org/event/financial-peace-university-6/
ATTACH;FMTTYPE=image/png:https://ccreek.org/content/2017/08/Financial_Peace_Logo.png
END:VEVENT
BEGIN:VEVENT
DTSTART;TZID=America/Chicago:20171022T180000
DTEND;TZID=America/Chicago:20171022T210000
DTSTAMP:20260421T224844
CREATED:20171005T154108Z
LAST-MODIFIED:20171005T154108Z
UID:5512-1508695200-1508706000@ccreek.org
SUMMARY:Nerf Night
DESCRIPTION:This is a fun way to interact for ages 14 to adult.  We transform the sanctuary into a Nerf Arena\, break into teams and begin to battle!  All equipment is supplied (you can bring your own Nerf blasters). Please contact Daniel Gruenig for all details.
URL:https://ccreek.org/event/nerf-night-5/
ATTACH;FMTTYPE=image/png:https://ccreek.org/content/2017/08/Nerf.png
END:VEVENT
BEGIN:VEVENT
DTSTART;TZID=America/Chicago:20171019T180000
DTEND;TZID=America/Chicago:20171019T190000
DTSTAMP:20260421T224844
CREATED:20170816T171808Z
LAST-MODIFIED:20170816T171824Z
UID:5400-1508436000-1508439600@ccreek.org
SUMMARY:Fitness Night
DESCRIPTION:Come join us as we exercise together.  All fitness level welcome!  Childcare provided.  Donations accepted. \nPlease contact: \n\nLindsey Polden 456-4844\n\nlindsey.moldenhauer@gmail.com\, \n\nJerad Polden 828-6173\n\njerad@beavercreekreserve.org \n\nSue Gerber 828-7825\n\nsmgerb@yahoo.com \n 
URL:https://ccreek.org/event/fitness-night-6/
ATTACH;FMTTYPE=image/png:https://ccreek.org/content/2017/08/Wellness-Ministry.png
END:VEVENT
BEGIN:VEVENT
DTSTART;TZID=America/Chicago:20171018T183000
DTEND;TZID=America/Chicago:20171018T200000
DTSTAMP:20260421T224844
CREATED:20170816T163644Z
LAST-MODIFIED:20170816T163644Z
UID:5347-1508351400-1508356800@ccreek.org
SUMMARY:AWANA
DESCRIPTION:For more information see our connect page.
URL:https://ccreek.org/event/awana-30/
ATTACH;FMTTYPE=image/png:https://ccreek.org/content/2016/10/Awana-TimeDate-Scroller.png
END:VEVENT
BEGIN:VEVENT
DTSTART;TZID=America/Chicago:20171017T183000
DTEND;TZID=America/Chicago:20171017T200000
DTSTAMP:20260421T224844
CREATED:20170816T165547Z
LAST-MODIFIED:20170816T165547Z
UID:5375-1508265000-1508270400@ccreek.org
SUMMARY:Financial Peace University
DESCRIPTION:
URL:https://ccreek.org/event/financial-peace-university-5/
ATTACH;FMTTYPE=image/png:https://ccreek.org/content/2017/08/Financial_Peace_Logo.png
END:VEVENT
BEGIN:VEVENT
DTSTART;TZID=America/Chicago:20171012T180000
DTEND;TZID=America/Chicago:20171012T190000
DTSTAMP:20260421T224844
CREATED:20170816T171745Z
LAST-MODIFIED:20170816T171745Z
UID:5398-1507831200-1507834800@ccreek.org
SUMMARY:Fitness Night
DESCRIPTION:Come join us as we exercise together.  All fitness level welcome!  Childcare provided.  Donations accepted. \nPlease contact: \n\nLindsey Polden 456-4844\n\nlindsey.moldenhauer@gmail.com\, \n\nJerad Polden 828-6173\n\njerad@beavercreekreserve.org \n\nSue Gerber 828-7825\n\nsmgerb@yahoo.com \n 
URL:https://ccreek.org/event/fitness-night-5/
ATTACH;FMTTYPE=image/png:https://ccreek.org/content/2017/08/Wellness-Ministry.png
END:VEVENT
BEGIN:VEVENT
DTSTART;TZID=America/Chicago:20171011T183000
DTEND;TZID=America/Chicago:20171011T200000
DTSTAMP:20260421T224844
CREATED:20170816T163616Z
LAST-MODIFIED:20170816T163616Z
UID:5345-1507746600-1507752000@ccreek.org
SUMMARY:AWANA
DESCRIPTION:For more information see our connect page.
URL:https://ccreek.org/event/awana-29/
ATTACH;FMTTYPE=image/png:https://ccreek.org/content/2016/10/Awana-TimeDate-Scroller.png
END:VEVENT
BEGIN:VEVENT
DTSTART;TZID=America/Chicago:20171010T183000
DTEND;TZID=America/Chicago:20171010T200000
DTSTAMP:20260421T224844
CREATED:20170816T165522Z
LAST-MODIFIED:20170816T165522Z
UID:5373-1507660200-1507665600@ccreek.org
SUMMARY:Financial Peace University
DESCRIPTION:
URL:https://ccreek.org/event/financial-peace-university-4/
ATTACH;FMTTYPE=image/png:https://ccreek.org/content/2017/08/Financial_Peace_Logo.png
END:VEVENT
BEGIN:VEVENT
DTSTART;TZID=America/Chicago:20171008T180000
DTEND;TZID=America/Chicago:20171008T210000
DTSTAMP:20260421T224844
CREATED:20171005T154038Z
LAST-MODIFIED:20171005T154038Z
UID:5510-1507485600-1507496400@ccreek.org
SUMMARY:Nerf Night
DESCRIPTION:This is a fun way to interact for ages 14 to adult.  We transform the sanctuary into a Nerf Arena\, break into teams and begin to battle!  All equipment is supplied (you can bring your own Nerf blasters). Please contact Daniel Gruenig for all details.
URL:https://ccreek.org/event/nerf-night-4/
ATTACH;FMTTYPE=image/png:https://ccreek.org/content/2017/08/Nerf.png
END:VEVENT
BEGIN:VEVENT
DTSTART;TZID=America/Chicago:20171005T180000
DTEND;TZID=America/Chicago:20171005T190000
DTSTAMP:20260421T224844
CREATED:20170816T171716Z
LAST-MODIFIED:20170816T171716Z
UID:5396-1507226400-1507230000@ccreek.org
SUMMARY:Fitness Night
DESCRIPTION:Come join us as we exercise together.  All fitness level welcome!  Childcare provided.  Donations accepted. \nPlease contact: \n\nLindsey Polden 456-4844\n\nlindsey.moldenhauer@gmail.com\, \n\nJerad Polden 828-6173\n\njerad@beavercreekreserve.org \n\nSue Gerber 828-7825\n\nsmgerb@yahoo.com \n 
URL:https://ccreek.org/event/fitness-night-4/
ATTACH;FMTTYPE=image/png:https://ccreek.org/content/2017/08/Wellness-Ministry.png
END:VEVENT
BEGIN:VEVENT
DTSTART;TZID=America/Chicago:20171004T183000
DTEND;TZID=America/Chicago:20171004T200000
DTSTAMP:20260421T224844
CREATED:20170816T163458Z
LAST-MODIFIED:20170816T163458Z
UID:5343-1507141800-1507147200@ccreek.org
SUMMARY:AWANA
DESCRIPTION:For more information see our connect page.
URL:https://ccreek.org/event/awana-28/
ATTACH;FMTTYPE=image/png:https://ccreek.org/content/2016/10/Awana-TimeDate-Scroller.png
END:VEVENT
BEGIN:VEVENT
DTSTART;TZID=America/Chicago:20171003T183000
DTEND;TZID=America/Chicago:20171003T200000
DTSTAMP:20260421T224844
CREATED:20170816T165500Z
LAST-MODIFIED:20170816T165500Z
UID:5371-1507055400-1507060800@ccreek.org
SUMMARY:Financial Peace University
DESCRIPTION:
URL:https://ccreek.org/event/financial-peace-university-3/
ATTACH;FMTTYPE=image/png:https://ccreek.org/content/2017/08/Financial_Peace_Logo.png
END:VEVENT
BEGIN:VEVENT
DTSTART;TZID=America/Chicago:20170928T180000
DTEND;TZID=America/Chicago:20170928T190000
DTSTAMP:20260421T224844
CREATED:20170816T171635Z
LAST-MODIFIED:20170816T171635Z
UID:5394-1506621600-1506625200@ccreek.org
SUMMARY:Fitness Night
DESCRIPTION:Come join us as we exercise together.  All fitness level welcome!  Childcare provided.  Donations accepted. \nPlease contact: \n\nLindsey Polden 456-4844\n\nlindsey.moldenhauer@gmail.com\, \n\nJerad Polden 828-6173\n\njerad@beavercreekreserve.org \n\nSue Gerber 828-7825\n\nsmgerb@yahoo.com \n 
URL:https://ccreek.org/event/fitness-night-3/
ATTACH;FMTTYPE=image/png:https://ccreek.org/content/2017/08/Wellness-Ministry.png
END:VEVENT
BEGIN:VEVENT
DTSTART;TZID=America/Chicago:20170927T183000
DTEND;TZID=America/Chicago:20170927T200000
DTSTAMP:20260421T224844
CREATED:20170816T163426Z
LAST-MODIFIED:20170816T163426Z
UID:5341-1506537000-1506542400@ccreek.org
SUMMARY:AWANA
DESCRIPTION:For more information see our connect page.
URL:https://ccreek.org/event/awana-27/
ATTACH;FMTTYPE=image/png:https://ccreek.org/content/2016/10/Awana-TimeDate-Scroller.png
END:VEVENT
BEGIN:VEVENT
DTSTART;TZID=America/Chicago:20170926T183000
DTEND;TZID=America/Chicago:20170926T200000
DTSTAMP:20260421T224844
CREATED:20170816T165435Z
LAST-MODIFIED:20170816T165435Z
UID:5369-1506450600-1506456000@ccreek.org
SUMMARY:Financial Peace University
DESCRIPTION:
URL:https://ccreek.org/event/financial-peace-university-2/
ATTACH;FMTTYPE=image/png:https://ccreek.org/content/2017/08/Financial_Peace_Logo.png
END:VEVENT
BEGIN:VEVENT
DTSTART;TZID=America/Chicago:20170924T180000
DTEND;TZID=America/Chicago:20170924T210000
DTSTAMP:20260421T224844
CREATED:20170816T165928Z
LAST-MODIFIED:20170816T165928Z
UID:5387-1506276000-1506286800@ccreek.org
SUMMARY:Nerf Night
DESCRIPTION:This is a fun way to interact for ages 14 to adult.  We transform the sanctuary into a Nerf Arena\, break into teams and begin to battle!  All equipment is supplied (you can bring your own Nerf blasters). Please contact Daniel Gruenig for all details: dcgruenig@gmail.com
URL:https://ccreek.org/event/nerf-night-3/
ATTACH;FMTTYPE=image/png:https://ccreek.org/content/2017/08/Nerf.png
END:VEVENT
BEGIN:VEVENT
DTSTART;TZID=America/Chicago:20170921T180000
DTEND;TZID=America/Chicago:20170921T190000
DTSTAMP:20260421T224844
CREATED:20170816T171604Z
LAST-MODIFIED:20170816T171604Z
UID:5392-1506016800-1506020400@ccreek.org
SUMMARY:Fitness Night
DESCRIPTION:Come join us as we exercise together.  All fitness level welcome!  Childcare provided.  Donations accepted. \nPlease contact: \n\nLindsey Polden 456-4844\n\nlindsey.moldenhauer@gmail.com\, \n\nJerad Polden 828-6173\n\njerad@beavercreekreserve.org \n\nSue Gerber 828-7825\n\nsmgerb@yahoo.com \n 
URL:https://ccreek.org/event/fitness-night-2/
ATTACH;FMTTYPE=image/png:https://ccreek.org/content/2017/08/Wellness-Ministry.png
END:VEVENT
BEGIN:VEVENT
DTSTART;TZID=America/Chicago:20170920T183000
DTEND;TZID=America/Chicago:20170920T200000
DTSTAMP:20260421T224844
CREATED:20170816T163355Z
LAST-MODIFIED:20170816T163355Z
UID:5339-1505932200-1505937600@ccreek.org
SUMMARY:AWANA
DESCRIPTION:For more information see our connect page.
URL:https://ccreek.org/event/awana-26/
ATTACH;FMTTYPE=image/png:https://ccreek.org/content/2016/10/Awana-TimeDate-Scroller.png
END:VEVENT
BEGIN:VEVENT
DTSTART;TZID=America/Chicago:20170919T183000
DTEND;TZID=America/Chicago:20170919T200000
DTSTAMP:20260421T224844
CREATED:20170816T165409Z
LAST-MODIFIED:20170816T165409Z
UID:5367-1505845800-1505851200@ccreek.org
SUMMARY:Financial Peace University
DESCRIPTION:
URL:https://ccreek.org/event/financial-peace-university/
ATTACH;FMTTYPE=image/png:https://ccreek.org/content/2017/08/Financial_Peace_Logo.png
END:VEVENT
BEGIN:VEVENT
DTSTART;TZID=America/Chicago:20170917T120000
DTEND;TZID=America/Chicago:20170917T140000
DTSTAMP:20260421T224844
CREATED:20170816T172538Z
LAST-MODIFIED:20170816T172538Z
UID:5414-1505649600-1505656800@ccreek.org
SUMMARY:Fall Festival
DESCRIPTION:Everyone is invited to enjoy a potluck picnic.  We’ll have a bouncy house for the kids.  Contact church office for more details.
URL:https://ccreek.org/event/fall-festival/
ATTACH;FMTTYPE=image/png:https://ccreek.org/content/2016/08/Fall-Festival.png
END:VEVENT
END:VCALENDAR