BEGIN:VCALENDAR
VERSION:2.0
PRODID:-//Cedarcreek Community Church - ECPv6.15.20//NONSGML v1.0//EN
CALSCALE:GREGORIAN
METHOD:PUBLISH
X-WR-CALNAME:Cedarcreek Community Church
X-ORIGINAL-URL:https://ccreek.org
X-WR-CALDESC:Events for Cedarcreek Community Church
REFRESH-INTERVAL;VALUE=DURATION:PT1H
X-Robots-Tag:noindex
X-PUBLISHED-TTL:PT1H
BEGIN:VTIMEZONE
TZID:America/Chicago
BEGIN:DAYLIGHT
TZOFFSETFROM:-0600
TZOFFSETTO:-0500
TZNAME:CDT
DTSTART:20160313T080000
END:DAYLIGHT
BEGIN:STANDARD
TZOFFSETFROM:-0500
TZOFFSETTO:-0600
TZNAME:CST
DTSTART:20161106T070000
END:STANDARD
BEGIN:DAYLIGHT
TZOFFSETFROM:-0600
TZOFFSETTO:-0500
TZNAME:CDT
DTSTART:20170312T080000
END:DAYLIGHT
BEGIN:STANDARD
TZOFFSETFROM:-0500
TZOFFSETTO:-0600
TZNAME:CST
DTSTART:20171105T070000
END:STANDARD
BEGIN:DAYLIGHT
TZOFFSETFROM:-0600
TZOFFSETTO:-0500
TZNAME:CDT
DTSTART:20180311T080000
END:DAYLIGHT
BEGIN:STANDARD
TZOFFSETFROM:-0500
TZOFFSETTO:-0600
TZNAME:CST
DTSTART:20181104T070000
END:STANDARD
BEGIN:DAYLIGHT
TZOFFSETFROM:-0600
TZOFFSETTO:-0500
TZNAME:CDT
DTSTART:20190310T080000
END:DAYLIGHT
BEGIN:STANDARD
TZOFFSETFROM:-0500
TZOFFSETTO:-0600
TZNAME:CST
DTSTART:20191103T070000
END:STANDARD
END:VTIMEZONE
BEGIN:VEVENT
DTSTART;TZID=America/Chicago:20180130T180000
DTEND;TZID=America/Chicago:20180130T190000
DTSTAMP:20260421T181229
CREATED:20171215T184252Z
LAST-MODIFIED:20171215T184252Z
UID:5768-1517335200-1517338800@ccreek.org
SUMMARY:Fitness Night
DESCRIPTION:Come join us as we exercise together.  All fitness level welcome! \n12 week course:  January 9 – March 27 \n$3 per class or prepay $25 for 12 weeks. \nChildcare provided. \n  \nPlease contact: \n\nLindsey Polden 456-4844\n\nlindsey.moldenhauer@gmail.com\, \n\nJerad Polden 828-6173\n\njerad@beavercreekreserve.org \n\nSue Gerber 828-7825\n\nsmgerb@yahoo.com
URL:https://ccreek.org/event/fitness-night-14/
ATTACH;FMTTYPE=image/png:https://ccreek.org/content/2017/08/Wellness-Ministry.png
END:VEVENT
BEGIN:VEVENT
DTSTART;TZID=America/Chicago:20180128T180000
DTEND;TZID=America/Chicago:20180128T210000
DTSTAMP:20260421T181229
CREATED:20171219T185024Z
LAST-MODIFIED:20171219T185024Z
UID:5800-1517162400-1517173200@ccreek.org
SUMMARY:Nerf Night
DESCRIPTION:This is a fun way to interact for ages 14 to adult.  We transform the sanctuary into a Nerf Arena\, break into teams and begin to battle!  All equipment is supplied (you can bring your own Nerf blasters). Please contact Daniel Gruenig for all details.
URL:https://ccreek.org/event/nerf-night-10/
LOCATION:Cedarcreek\, 3520 Eastwind Drive\, Eau Claire\, WI\, 54701\, United States
ATTACH;FMTTYPE=image/png:https://ccreek.org/content/2017/08/Nerf.png
END:VEVENT
BEGIN:VEVENT
DTSTART;TZID=America/Chicago:20180127T180000
DTEND;TZID=America/Chicago:20180127T210000
DTSTAMP:20260421T181229
CREATED:20180102T164709Z
LAST-MODIFIED:20180816T163010Z
UID:5836-1517076000-1517086800@ccreek.org
SUMMARY:Men's Game Night
DESCRIPTION:Card games\, video games\, board games.  Compete in the Ultrathon for the coveted Men’s Traveling Trophy. \n 
URL:https://ccreek.org/event/mens-game-night/
LOCATION:Cedarcreek\, 3520 Eastwind Drive\, Eau Claire\, WI\, 54701\, United States
END:VEVENT
BEGIN:VEVENT
DTSTART;TZID=America/Chicago:20180124T183000
DTEND;TZID=America/Chicago:20180124T200000
DTSTAMP:20260421T181229
CREATED:20171215T183033Z
LAST-MODIFIED:20171215T183033Z
UID:5740-1516818600-1516824000@ccreek.org
SUMMARY:AWANA
DESCRIPTION:For more information see our connect page.
URL:https://ccreek.org/event/awana-40/
ATTACH;FMTTYPE=image/png:https://ccreek.org/content/2016/07/Awana.png
END:VEVENT
BEGIN:VEVENT
DTSTART;TZID=America/Chicago:20180123T180000
DTEND;TZID=America/Chicago:20180123T190000
DTSTAMP:20260421T181229
CREATED:20171215T184225Z
LAST-MODIFIED:20171215T184225Z
UID:5766-1516730400-1516734000@ccreek.org
SUMMARY:Fitness Night
DESCRIPTION:Come join us as we exercise together.  All fitness level welcome! \n12 week course:  January 9 – March 27 \n$3 per class or prepay $25 for 12 weeks. \nChildcare provided. \n  \nPlease contact: \n\nLindsey Polden 456-4844\n\nlindsey.moldenhauer@gmail.com\, \n\nJerad Polden 828-6173\n\njerad@beavercreekreserve.org \n\nSue Gerber 828-7825\n\nsmgerb@yahoo.com
URL:https://ccreek.org/event/fitness-night-13/
ATTACH;FMTTYPE=image/png:https://ccreek.org/content/2017/08/Wellness-Ministry.png
END:VEVENT
BEGIN:VEVENT
DTSTART;TZID=America/Chicago:20180121T120000
DTEND;TZID=America/Chicago:20180121T140000
DTSTAMP:20260421T181229
CREATED:20180102T164434Z
LAST-MODIFIED:20180102T164434Z
UID:5832-1516536000-1516543200@ccreek.org
SUMMARY:Winter Break & Baptisms
DESCRIPTION:Enjoy a potluck picnic lunch following the baptisms.  Please bring a dish to pass.  Church will provide Springbrook Meats hotdogs and beverages. \nIf you’re interested in being baptized please read a Baptism Study Guide in foyer literature rack and then talk to Pastors Mark\, Jason or Rob. \n 
URL:https://ccreek.org/event/winter-break-baptisms/
LOCATION:Cedarcreek\, 3520 Eastwind Drive\, Eau Claire\, WI\, 54701\, United States
END:VEVENT
BEGIN:VEVENT
DTSTART;TZID=America/Chicago:20180117T183000
DTEND;TZID=America/Chicago:20180117T200000
DTSTAMP:20260421T181229
CREATED:20171215T182605Z
LAST-MODIFIED:20171215T182605Z
UID:5738-1516213800-1516219200@ccreek.org
SUMMARY:AWANA
DESCRIPTION:For more information see our connect page.
URL:https://ccreek.org/event/awana-39/
ATTACH;FMTTYPE=image/png:https://ccreek.org/content/2016/07/Awana.png
END:VEVENT
BEGIN:VEVENT
DTSTART;TZID=America/Chicago:20180116T180000
DTEND;TZID=America/Chicago:20180116T190000
DTSTAMP:20260421T181229
CREATED:20171215T184159Z
LAST-MODIFIED:20171215T184159Z
UID:5764-1516125600-1516129200@ccreek.org
SUMMARY:Fitness Night
DESCRIPTION:Come join us as we exercise together.  All fitness level welcome! \n12 week course:  January 9 – March 27 \n$3 per class or prepay $25 for 12 weeks. \nChildcare provided. \n  \nPlease contact: \n\nLindsey Polden 456-4844\n\nlindsey.moldenhauer@gmail.com\, \n\nJerad Polden 828-6173\n\njerad@beavercreekreserve.org \n\nSue Gerber 828-7825\n\nsmgerb@yahoo.com
URL:https://ccreek.org/event/fitness-night-12/
ATTACH;FMTTYPE=image/png:https://ccreek.org/content/2017/08/Wellness-Ministry.png
END:VEVENT
BEGIN:VEVENT
DTSTART;TZID=America/Chicago:20180114T180000
DTEND;TZID=America/Chicago:20180114T210000
DTSTAMP:20260421T181229
CREATED:20171219T184940Z
LAST-MODIFIED:20171219T184948Z
UID:5798-1515952800-1515963600@ccreek.org
SUMMARY:Nerf Night
DESCRIPTION:This is a fun way to interact for ages 14 to adult.  We transform the sanctuary into a Nerf Arena\, break into teams and begin to battle!  All equipment is supplied (you can bring your own Nerf blasters). Please contact Daniel Gruenig for all details.
URL:https://ccreek.org/event/nerf-night-9/
LOCATION:Cedarcreek\, 3520 Eastwind Drive\, Eau Claire\, WI\, 54701\, United States
ATTACH;FMTTYPE=image/png:https://ccreek.org/content/2017/08/Nerf.png
END:VEVENT
BEGIN:VEVENT
DTSTART;TZID=America/Chicago:20180113T090000
DTEND;TZID=America/Chicago:20180113T110000
DTSTAMP:20260421T181229
CREATED:20171215T184000Z
LAST-MODIFIED:20171215T184000Z
UID:5760-1515834000-1515841200@ccreek.org
SUMMARY:Parenting on Purpose
DESCRIPTION:Come join fellow parents and the pastors and we have an open discussion with questions and answers on parenting our kids!  Contact Pastor Rob for more details.
URL:https://ccreek.org/event/parenting-on-purpose/
END:VEVENT
BEGIN:VEVENT
DTSTART;TZID=America/Chicago:20180110T183000
DTEND;TZID=America/Chicago:20180110T200000
DTSTAMP:20260421T181229
CREATED:20171215T182443Z
LAST-MODIFIED:20171215T182528Z
UID:5735-1515609000-1515614400@ccreek.org
SUMMARY:AWANA
DESCRIPTION:For more information see our connect page.
URL:https://ccreek.org/event/awana-38/
ATTACH;FMTTYPE=image/png:https://ccreek.org/content/2016/07/Awana.png
END:VEVENT
BEGIN:VEVENT
DTSTART;TZID=America/Chicago:20180109T180000
DTEND;TZID=America/Chicago:20180109T190000
DTSTAMP:20260421T181229
CREATED:20171215T184131Z
LAST-MODIFIED:20171215T184131Z
UID:5762-1515520800-1515524400@ccreek.org
SUMMARY:Fitness Night
DESCRIPTION:Come join us as we exercise together.  All fitness level welcome! \n12 week course:  January 9 – March 27 \n$3 per class or prepay $25 for 12 weeks. \nChildcare provided. \n  \nPlease contact: \n\nLindsey Polden 456-4844\n\nlindsey.moldenhauer@gmail.com\, \n\nJerad Polden 828-6173\n\njerad@beavercreekreserve.org \n\nSue Gerber 828-7825\n\nsmgerb@yahoo.com
URL:https://ccreek.org/event/fitness-night-11/
ATTACH;FMTTYPE=image/png:https://ccreek.org/content/2017/08/Wellness-Ministry.png
END:VEVENT
BEGIN:VEVENT
DTSTART;VALUE=DATE:20171229
DTEND;VALUE=DATE:20180102
DTSTAMP:20260421T181229
CREATED:20171005T154439Z
LAST-MODIFIED:20171005T154439Z
UID:5514-1514505600-1514851199@ccreek.org
SUMMARY:Faithwalkers - Between Two Worlds
DESCRIPTION:Faithwalkers is a yearly conference\, hosted by Great Commission Churches\, for young and old followers of Christ to be motivated and encouraged in their walk of faith. The conference features passionate worship\, practical Biblical teaching\, and fellowship with believers from throughout the US and the world. \nThe 2017 theme is “Between Two Worlds”. \n\n“For here we do not have a lasting city\, but we are seeking the city which is to come.” – Hebrews 13:14 \n\n\nAs followers of Jesus Christ\, we live as aliens and strangers in a foreign land. This world is not our home. We look to the heavenly kingdom which is to come. \n\n\nAs heirs of eternal life we are to defy this world’s values. As G. K. Chesterton wrote\, “A dead thing can go with the stream\, but only a living thing can go against it.” \n\n\nAt the same time we live as residents of this world\, called to love and serve our earthly neighbors and neighborhoods. We are called to be fully present in this world as we partner in God’s redemptive plans and proclaim the good news of our King. \n\n\nHow do we as Christians practically live between these two worlds? \n\n\nCome and learn how to live for the world to come. Come to Faithwalkers Midwest. \n\nFor more information or if you have any questions\, contact faithwalkersmidwest@gmail.com.
URL:https://ccreek.org/event/faithwalkers-two-worlds/
LOCATION:Iowa Events Center\, 833 5th Ave\, Des Moines\, IA\, 50309\, United States
ATTACH;FMTTYPE=image/jpeg:https://ccreek.org/content/2017/10/FW-2017.jpg
END:VEVENT
BEGIN:VEVENT
DTSTART;TZID=America/Chicago:20171224T160000
DTEND;TZID=America/Chicago:20171224T170000
DTSTAMP:20260421T181229
CREATED:20170816T172317Z
LAST-MODIFIED:20171206T192807Z
UID:5412-1514131200-1514134800@ccreek.org
SUMMARY:Candlelight Service
DESCRIPTION:No Sunday morning services today.  Please come and join us for a candlelight service at 4:00PM.
URL:https://ccreek.org/event/candlelight-service-2/
ATTACH;FMTTYPE=image/png:https://ccreek.org/content/2016/07/Christmas-Eve-service-poster.png
END:VEVENT
BEGIN:VEVENT
DTSTART;TZID=America/Chicago:20171217T180000
DTEND;TZID=America/Chicago:20171217T210000
DTSTAMP:20260421T181229
CREATED:20171018T180210Z
LAST-MODIFIED:20171018T180210Z
UID:5576-1513533600-1513544400@ccreek.org
SUMMARY:Nerf Night
DESCRIPTION:This is a fun way to interact for ages 14 to adult.  We transform the sanctuary into a Nerf Arena\, break into teams and begin to battle!  All equipment is supplied (you can bring your own Nerf blasters). Please contact Daniel Gruenig for all details.
URL:https://ccreek.org/event/nerf-night-8/
ATTACH;FMTTYPE=image/png:https://ccreek.org/content/2017/08/Nerf.png
END:VEVENT
BEGIN:VEVENT
DTSTART;TZID=America/Chicago:20171217T080000
DTEND;TZID=America/Chicago:20171217T120000
DTSTAMP:20260421T181229
CREATED:20171130T174358Z
LAST-MODIFIED:20171130T174358Z
UID:5704-1513497600-1513512000@ccreek.org
SUMMARY:Christmas Cookies
DESCRIPTION:Would you like to share your special Christmas treats with Cedarcreek?  Please bring any amount to the church kitchen before 9 am.  Thank you for sharing!  Contact Judy Schroeder at 797-1545. \n 
URL:https://ccreek.org/event/christmas-cookies/
LOCATION:Cedarcreek\, 3520 Eastwind Drive\, Eau Claire\, WI\, 54701\, United States
END:VEVENT
BEGIN:VEVENT
DTSTART;TZID=America/Chicago:20171213T183000
DTEND;TZID=America/Chicago:20171213T200000
DTSTAMP:20260421T181229
CREATED:20170816T164107Z
LAST-MODIFIED:20170816T164107Z
UID:5362-1513189800-1513195200@ccreek.org
SUMMARY:AWANA
DESCRIPTION:For more information see our connect page.
URL:https://ccreek.org/event/awana-37/
ATTACH;FMTTYPE=image/png:https://ccreek.org/content/2016/10/Awana-TimeDate-Scroller.png
END:VEVENT
BEGIN:VEVENT
DTSTART;TZID=America/Chicago:20171210T160000
DTEND;TZID=America/Chicago:20171210T170000
DTSTAMP:20260421T181229
CREATED:20171130T174157Z
LAST-MODIFIED:20171130T174157Z
UID:5702-1512921600-1512925200@ccreek.org
SUMMARY:Christmas Caroling
DESCRIPTION:Come join us as we sing Christmas Carols at 4:00PM at Syverson Nursing Home on 816 Porter Ave.  Song books provided will be provided\, so no experience is necessary!  Contact Randi for more details. \n 
URL:https://ccreek.org/event/christmas-caroling/
END:VEVENT
BEGIN:VEVENT
DTSTART;TZID=America/Chicago:20171210T104500
DTEND;TZID=America/Chicago:20171210T120000
DTSTAMP:20260421T181229
CREATED:20171019T193421Z
LAST-MODIFIED:20171206T192754Z
UID:5591-1512902700-1512907200@ccreek.org
SUMMARY:Children's Christmas Program
DESCRIPTION:Today there is only one service at 10:45AM.  Come join us for the Children’s Christmas Program!
URL:https://ccreek.org/event/childrens-christmas-program-2/
END:VEVENT
BEGIN:VEVENT
DTSTART;TZID=America/Chicago:20171209T100000
DTEND;TZID=America/Chicago:20171209T120000
DTSTAMP:20260421T181229
CREATED:20171109T201505Z
LAST-MODIFIED:20171115T212637Z
UID:5639-1512813600-1512820800@ccreek.org
SUMMARY:Children's Program Rehersal
DESCRIPTION:Rehearsal for the children’s program!
URL:https://ccreek.org/event/parenting-seminarchildrens-program-rehersal/
LOCATION:Cedarcreek\, 3520 Eastwind Drive\, Eau Claire\, WI\, 54701\, United States
END:VEVENT
BEGIN:VEVENT
DTSTART;TZID=America/Chicago:20171209T080000
DTEND;TZID=America/Chicago:20171209T210000
DTSTAMP:20260421T181229
CREATED:20171019T193552Z
LAST-MODIFIED:20171019T193552Z
UID:5593-1512806400-1512853200@ccreek.org
SUMMARY:Salvation Army Bellringing
DESCRIPTION:Come join us as we ring the bells for Salvation Army at the south-side Walmart (Gateway Drive) on the grocery side!
URL:https://ccreek.org/event/salvation-army-bellringing/
END:VEVENT
BEGIN:VEVENT
DTSTART;TZID=America/Chicago:20171206T183000
DTEND;TZID=America/Chicago:20171206T200000
DTSTAMP:20260421T181229
CREATED:20170816T164042Z
LAST-MODIFIED:20170816T164042Z
UID:5360-1512585000-1512590400@ccreek.org
SUMMARY:AWANA
DESCRIPTION:For more information see our connect page.
URL:https://ccreek.org/event/awana-36/
ATTACH;FMTTYPE=image/png:https://ccreek.org/content/2016/10/Awana-TimeDate-Scroller.png
END:VEVENT
BEGIN:VEVENT
DTSTART;TZID=America/Chicago:20171203T140000
DTEND;TZID=America/Chicago:20171203T170000
DTSTAMP:20260421T181229
CREATED:20171018T173522Z
LAST-MODIFIED:20171018T173522Z
UID:5569-1512309600-1512320400@ccreek.org
SUMMARY:Christmas Craft Fair
DESCRIPTION:Christmas Craft & Bake Sale\nFeaturing a wide variety of handmade items from a great bunch of vendors! Stay tuned for more information about the wonderful goods that will be for sale. \nAdditionally\, there will be items to be raffled off with proceeds going to support the ministry of APPLE Pregnancy Center.
URL:https://ccreek.org/event/christmas-craft-fair/
ATTACH;FMTTYPE=image/jpeg:https://ccreek.org/content/2017/10/Craft-Fair.jpg
END:VEVENT
BEGIN:VEVENT
DTSTART;TZID=America/Chicago:20171202T130000
DTEND;TZID=America/Chicago:20171202T150000
DTSTAMP:20260421T181229
CREATED:20170816T172135Z
LAST-MODIFIED:20171130T173738Z
UID:5410-1512219600-1512226800@ccreek.org
SUMMARY:Women's Christmas Tea
DESCRIPTION:Ladies\, please consider attending Women’s Christmas Tea!  It’s a great time to fellowship with other women in the church who you might not otherwise get to spend time with.  Please bring food to share and be ready to sing some Christmas carols! \nEvent located at: 12701 42nd Avenue\, Lake Hallie. \nContact Nancy or Sue for additional details.
URL:https://ccreek.org/event/womens-christmas-tea-2/
ATTACH;FMTTYPE=image/png:https://ccreek.org/content/2016/07/Womens-Christmas-Tea.png
END:VEVENT
BEGIN:VEVENT
DTSTART;TZID=America/Chicago:20171129T183000
DTEND;TZID=America/Chicago:20171129T200000
DTSTAMP:20260421T181229
CREATED:20170816T164016Z
LAST-MODIFIED:20170816T164016Z
UID:5358-1511980200-1511985600@ccreek.org
SUMMARY:AWANA
DESCRIPTION:For more information see our connect page.
URL:https://ccreek.org/event/awana-35/
ATTACH;FMTTYPE=image/png:https://ccreek.org/content/2016/10/Awana-TimeDate-Scroller.png
END:VEVENT
BEGIN:VEVENT
DTSTART;TZID=America/Chicago:20171124T183000
DTEND;TZID=America/Chicago:20171124T210000
DTSTAMP:20260421T181229
CREATED:20171116T185727Z
LAST-MODIFIED:20171116T185727Z
UID:5661-1511548200-1511557200@ccreek.org
SUMMARY:No Friday Night Service
DESCRIPTION:On account of the holiday we will not be having our regularly scheduled Friday Night Service.  Happy Thanksgiving!
URL:https://ccreek.org/event/no-friday-night-service/
END:VEVENT
BEGIN:VEVENT
DTSTART;VALUE=DATE:20171123
DTEND;VALUE=DATE:20171124
DTSTAMP:20260421T181229
CREATED:20171005T155316Z
LAST-MODIFIED:20171005T155339Z
UID:5522-1511395200-1511481599@ccreek.org
SUMMARY:Thanksgiving
DESCRIPTION:The church will be closed on Thursday\, November 23rd for Thanksgiving.
URL:https://ccreek.org/event/thanksgiving/
END:VEVENT
BEGIN:VEVENT
DTSTART;TZID=America/Chicago:20171119T180000
DTEND;TZID=America/Chicago:20171119T210000
DTSTAMP:20260421T181229
CREATED:20171018T180136Z
LAST-MODIFIED:20171018T180136Z
UID:5574-1511114400-1511125200@ccreek.org
SUMMARY:Nerf Night
DESCRIPTION:This is a fun way to interact for ages 14 to adult.  We transform the sanctuary into a Nerf Arena\, break into teams and begin to battle!  All equipment is supplied (you can bring your own Nerf blasters). Please contact Daniel Gruenig for all details.
URL:https://ccreek.org/event/nerf-night-7/
ATTACH;FMTTYPE=image/png:https://ccreek.org/content/2017/08/Nerf.png
END:VEVENT
BEGIN:VEVENT
DTSTART;TZID=America/Chicago:20171116T180000
DTEND;TZID=America/Chicago:20171116T190000
DTSTAMP:20260421T181229
CREATED:20170816T172019Z
LAST-MODIFIED:20170816T172019Z
UID:5408-1510855200-1510858800@ccreek.org
SUMMARY:Fitness Night
DESCRIPTION:Come join us as we exercise together.  All fitness level welcome!  Childcare provided.  Donations accepted. \nPlease contact: \n\nLindsey Polden 456-4844\n\nlindsey.moldenhauer@gmail.com\, \n\nJerad Polden 828-6173\n\njerad@beavercreekreserve.org \n\nSue Gerber 828-7825\n\nsmgerb@yahoo.com \n 
URL:https://ccreek.org/event/fitness-night-10/
ATTACH;FMTTYPE=image/png:https://ccreek.org/content/2017/08/Wellness-Ministry.png
END:VEVENT
BEGIN:VEVENT
DTSTART;TZID=America/Chicago:20171115T183000
DTEND;TZID=America/Chicago:20171115T200000
DTSTAMP:20260421T181229
CREATED:20170816T163938Z
LAST-MODIFIED:20170816T163938Z
UID:5356-1510770600-1510776000@ccreek.org
SUMMARY:AWANA
DESCRIPTION:For more information see our connect page.
URL:https://ccreek.org/event/awana-34/
ATTACH;FMTTYPE=image/png:https://ccreek.org/content/2016/10/Awana-TimeDate-Scroller.png
END:VEVENT
END:VCALENDAR